BEGIN:VCALENDAR
VERSION:2.0
PRODID:-//HOLISTIC LAB ACADEMY &amp; THERAPIES  - ECPv6.15.20//NONSGML v1.0//EN
CALSCALE:GREGORIAN
METHOD:PUBLISH
X-WR-CALNAME:HOLISTIC LAB ACADEMY &amp; THERAPIES 
X-ORIGINAL-URL:https://www.annakonovesi.gr
X-WR-CALDESC:Events for HOLISTIC LAB ACADEMY &amp; THERAPIES 
REFRESH-INTERVAL;VALUE=DURATION:PT1H
X-Robots-Tag:noindex
X-PUBLISHED-TTL:PT1H
BEGIN:VTIMEZONE
TZID:UTC
BEGIN:STANDARD
TZOFFSETFROM:+0000
TZOFFSETTO:+0000
TZNAME:UTC
DTSTART:20240101T000000
END:STANDARD
END:VTIMEZONE
BEGIN:VEVENT
DTSTART;TZID=UTC:20250714T203000
DTEND;TZID=UTC:20250714T220000
DTSTAMP:20260421T110505
CREATED:20250705T014645Z
LAST-MODIFIED:20250705T014805Z
UID:10176-1752525000-1752530400@www.annakonovesi.gr
SUMMARY:Yoga poses\, Mundras & Symbols στην θεραπείας της Ενεργειακής Μήτρας
DESCRIPTION:Workshop: “Yoga poses\, Mundras & Symbols στην θεραπείας της Ενεργειακής Μήτρας”. Αρχέγοντα σύμβολα\, στάσεις της γιόγκα & Mundras στην θεραπεία της Μήτρας.\n\nΗ λέξη “μούντρα” (mudrā στα σανσκριτικά)\, που σημαίνει “χειρονομία” ή “σφραγίδα” στα σανσκριτικά xρησιμοποιείται ως συμβολική ή τελετουργική χειρονομία ή πόζα\, κυρίως με τα χέρια και τα δάχτυλα\, αλλά μπορεί να περιλαμβάνει και ολόκληρο το σώμα.\n\nΣτην γιόγκα\, οι μούντρες χρησιμοποιούνται σε συνδυασμό με την πραναγιάμα (ασκήσεις αναπνοής) για να επηρεάσουν τη ροή της ενέργειας στο σώμα επιφέροντας θεραπευτικές αλλαγές.\n\nΧρησιμοποιούνται πολύ επίσης στην θεραπευτική γιόγκα και την ολιστική θεραπευτική για την επαναφορά της υγείας και της ψυχικής ευεξίας.\n\n\nΣτο εργαστήριο θα δώσω αναπνευστικές τεχνικές\, βασικές στάσεις της yoga και τα βασικά mundra και σύμβολα που χρησιμοποιούμε στην θεραπεία της μήτρας.\nΤο εργαστήριο αυτό απευθύνεται σε κάθε γυναίκα που θέλει να ασχοληθεί με τον εαυτό της και να συμμετέχει ενεργά στην βελτίωση της υγείας της.\n\n\nΑπευθύνεται σε γυναίκες που θέλουν να εργαστούν σε βάθος με την μήτρα τους.\n\nΣυνεισφορά: 21€Το σεμινάριο αυτό θα μαγνητοσκοπηθεί\n\nΚάνε τώρα την εγγραφή σου\, περιορισμένος αριθμός θέσεων.\n\nΣυμπλήρωσε την φόρμα συμμετοχής στο εργαστήριο αυτό και θα λάβεις όλες τις πληροφορίες στο email σου για την κράτηση της θέσης.\n  \nhttps://preview.mailerlite.io/forms/544130/159040153841567017/share \n\nΣε περιμένω!\nΆννα ΚονοβέσηΠρογεννητική Μαία- Ολιστική ΘεραπεύτριαMindfulness & Hatha yoga Teacher
URL:https://www.annakonovesi.gr/event/yoga-poses-mundras-symbols-for-womb-healing/
LOCATION:ΔΙΑΔΙΚΤΥΑΚΑ\, Ελλάδα
CATEGORIES:ΓΙΟΓΚΑ ΓΙΑ ΓΥΝΑΙΚΕΣ,ΓΙΟΓΚΑ ΓΟΝΙΜΟΤΗΤΑΣ,ΕΝΕΡΓΕΙΑΚΗ ΜΗΤΡΑ,ΕΝΙΣΧΥΣΗ ΓΟΝΙΜΟΤΗΤΑΣ
ATTACH;FMTTYPE=image/jpeg:https://www.annakonovesi.gr/wp-content/uploads/2025/07/Αντίγραφο-του-Pink-and-Teal-Yoga-Fitness-169-Video-Banner-για-Tumblr-Μικρογραφία-YouTube-1.jpg
ORGANIZER;CN="ANNA KONOVESI":MAILTO:info@annakonovesi.gr
END:VEVENT
END:VCALENDAR